BEGIN:VCALENDAR
PRODID:-//Pixl8//Eventfolio//EN
VERSION:2.0
X-WR-TIMEZONE:Europe/London
CALSCALE:GREGORIAN
METHOD:PUBLISH
CLASS:PUBLIC
BEGIN:VTIMEZONE
TZID:Europe/London
LAST-MODIFIED:20260306T231828Z
TZURL:https://www.tzurl.org/zoneinfo-outlook/Europe/London
X-LIC-LOCATION:Europe/London
BEGIN:DAYLIGHT
TZNAME:BST
TZOFFSETFROM:+0000
TZOFFSETTO:+0100
DTSTART:19700329T010000
RRULE:FREQ=YEARLY;BYMONTH=3;BYDAY=-1SU
END:DAYLIGHT
BEGIN:STANDARD
TZNAME:GMT
TZOFFSETFROM:+0100
TZOFFSETTO:+0000
DTSTART:19701025T020000
RRULE:FREQ=YEARLY;BYMONTH=10;BYDAY=-1SU
END:STANDARD
END:VTIMEZONE
BEGIN:VEVENT
DTSTART;TZID=Europe/London:20230914T130000
DTEND;TZID=Europe/London:20230914T140000
DTSTAMP:20260423T140547Z
UID:{7C06F0C8-217B-4E64-8BED46AB374B93FE}
LOCATION:
SUMMARY:World Sepsis Day 
DESCRIPTION:World Sepsis Day is fast approaching, and we will be marking the occasion with a lunch time webinar.\n
 \n
 Event details: https://ics.ac.uk/events/calendar/world-sepsis-day.html
PRIORITY:1
END:VEVENT
END:VCALENDAR