BEGIN:VCALENDAR
PRODID:-//Pixl8//Eventfolio//EN
VERSION:2.0
X-WR-TIMEZONE:Europe/London
CALSCALE:GREGORIAN
METHOD:PUBLISH
CLASS:PUBLIC
BEGIN:VTIMEZONE
TZID:Europe/London
LAST-MODIFIED:20260306T231828Z
TZURL:https://www.tzurl.org/zoneinfo-outlook/Europe/London
X-LIC-LOCATION:Europe/London
BEGIN:DAYLIGHT
TZNAME:BST
TZOFFSETFROM:+0000
TZOFFSETTO:+0100
DTSTART:19700329T010000
RRULE:FREQ=YEARLY;BYMONTH=3;BYDAY=-1SU
END:DAYLIGHT
BEGIN:STANDARD
TZNAME:GMT
TZOFFSETFROM:+0100
TZOFFSETTO:+0000
DTSTART:19701025T020000
RRULE:FREQ=YEARLY;BYMONTH=10;BYDAY=-1SU
END:STANDARD
END:VTIMEZONE
BEGIN:VEVENT
DTSTART;TZID=Europe/London;VALUE=DATE:20181009
DTEND;TZID=Europe/London;VALUE=DATE:20181010
DTSTAMP:20260423T175431Z
UID:{F98A65B3-4C03-4A01-884A037BE295DE05}
LOCATION:
SUMMARY:Wellbeing
DESCRIPTION:The ICS Wellbeing Working Group would like to invite you to the second annual staff wellbeing seminar.\n
 \n
 \n
 \n
 With so many pressures the NHS is under, now, more than ever, we recognise the importance of the health and wellbeing of our staff, and this day explores issues particularly pertinent to intensive care staff.\n
 \n
 \n
 \n
 The day is suitable for the whole MDT, and attendance is encouraged for those working in intensive care and their managers.\n
 \n
 Event details: https://ics.ac.uk/events/calendar/wellbeing-WELLB18.html
PRIORITY:1
END:VEVENT
END:VCALENDAR