BEGIN:VCALENDAR
PRODID:-//Pixl8//Eventfolio//EN
VERSION:2.0
X-WR-TIMEZONE:Europe/London
CALSCALE:GREGORIAN
METHOD:PUBLISH
CLASS:PUBLIC
BEGIN:VTIMEZONE
TZID:Europe/London
LAST-MODIFIED:20260306T231828Z
TZURL:https://www.tzurl.org/zoneinfo-outlook/Europe/London
X-LIC-LOCATION:Europe/London
BEGIN:DAYLIGHT
TZNAME:BST
TZOFFSETFROM:+0000
TZOFFSETTO:+0100
DTSTART:19700329T010000
RRULE:FREQ=YEARLY;BYMONTH=3;BYDAY=-1SU
END:DAYLIGHT
BEGIN:STANDARD
TZNAME:GMT
TZOFFSETFROM:+0100
TZOFFSETTO:+0000
DTSTART:19701025T020000
RRULE:FREQ=YEARLY;BYMONTH=10;BYDAY=-1SU
END:STANDARD
END:VTIMEZONE
BEGIN:VEVENT
DTSTART;TZID=Europe/London:20220908T130000
DTEND;TZID=Europe/London:20220908T140000
DTSTAMP:20260423T111453Z
UID:{8D8FB1BC-81B7-48D7-9B62543D39CCD532}
LOCATION:
SUMMARY:Webinar - Sepsis: Antibiotics & immunomodulation
DESCRIPTION:Mark World Sepsis Day on September 13th, by joining our free one-hour webinar on Thursday 8 September, 13:00. The webinar will cover the latest essential information on the topic.\n
 \n
 Event details: https://ics.ac.uk/events/calendar/webinar---sepsis-antibiotics--immunomodulation-SEPSISEP22.html
PRIORITY:1
END:VEVENT
END:VCALENDAR