BEGIN:VCALENDAR
PRODID:-//Pixl8//Eventfolio//EN
VERSION:2.0
X-WR-TIMEZONE:Europe/London
CALSCALE:GREGORIAN
METHOD:PUBLISH
CLASS:PUBLIC
BEGIN:VTIMEZONE
TZID:Europe/London
LAST-MODIFIED:20260306T231828Z
TZURL:https://www.tzurl.org/zoneinfo-outlook/Europe/London
X-LIC-LOCATION:Europe/London
BEGIN:DAYLIGHT
TZNAME:BST
TZOFFSETFROM:+0000
TZOFFSETTO:+0100
DTSTART:19700329T010000
RRULE:FREQ=YEARLY;BYMONTH=3;BYDAY=-1SU
END:DAYLIGHT
BEGIN:STANDARD
TZNAME:GMT
TZOFFSETFROM:+0100
TZOFFSETTO:+0000
DTSTART:19701025T020000
RRULE:FREQ=YEARLY;BYMONTH=10;BYDAY=-1SU
END:STANDARD
END:VTIMEZONE
BEGIN:VEVENT
DTSTART;TZID=Europe/London:20220812T110000
DTEND;TZID=Europe/London:20220812T120000
DTSTAMP:20260423T175514Z
UID:{A8CFAD32-7D5E-48ED-87C2B0304189C64E}
LOCATION:
SUMMARY:Trainee exam stress
DESCRIPTION:To coincide with FICM exams, psychologist Oonagh Duffy will take you through some self-management techniques to enable you to ride the wave of exam stress.\n
 \n
 Event details: https://ics.ac.uk/events/calendar/trainee-exam-stress-EXAMSTRES1.html
PRIORITY:1
END:VEVENT
END:VCALENDAR