BEGIN:VCALENDAR
PRODID:-//Pixl8//Eventfolio//EN
VERSION:2.0
X-WR-TIMEZONE:Europe/London
CALSCALE:GREGORIAN
METHOD:PUBLISH
CLASS:PUBLIC
BEGIN:VTIMEZONE
TZID:Europe/London
LAST-MODIFIED:20260306T231828Z
TZURL:https://www.tzurl.org/zoneinfo-outlook/Europe/London
X-LIC-LOCATION:Europe/London
BEGIN:DAYLIGHT
TZNAME:BST
TZOFFSETFROM:+0000
TZOFFSETTO:+0100
DTSTART:19700329T010000
RRULE:FREQ=YEARLY;BYMONTH=3;BYDAY=-1SU
END:DAYLIGHT
BEGIN:STANDARD
TZNAME:GMT
TZOFFSETFROM:+0100
TZOFFSETTO:+0000
DTSTART:19701025T020000
RRULE:FREQ=YEARLY;BYMONTH=10;BYDAY=-1SU
END:STANDARD
END:VTIMEZONE
BEGIN:VEVENT
DTSTART;TZID=Europe/London:20180611T093000
DTEND;TZID=Europe/London:20180611T163500
DTSTAMP:20260423T142237Z
UID:{771886A9-4969-45A9-954CC12A657607AA}
LOCATION:
SUMMARY:Trainee Day: Maximise your Opportunities during ICM Training
DESCRIPTION:Open to all Trainees, SAS Doctors &amp; ACCPs, the event will give you information and guidance on how to make the most opportunities during ICM Training.\n
 \n
 Event details: https://ics.ac.uk/events/calendar/trainee-day-maximise-your-opportunities-during-icm-training-TRC110618.html
PRIORITY:1
END:VEVENT
END:VCALENDAR