BEGIN:VCALENDAR
PRODID:-//Pixl8//Eventfolio//EN
VERSION:2.0
X-WR-TIMEZONE:Europe/London
CALSCALE:GREGORIAN
METHOD:PUBLISH
CLASS:PUBLIC
BEGIN:VTIMEZONE
TZID:Europe/London
LAST-MODIFIED:20260306T231828Z
TZURL:https://www.tzurl.org/zoneinfo-outlook/Europe/London
X-LIC-LOCATION:Europe/London
BEGIN:DAYLIGHT
TZNAME:BST
TZOFFSETFROM:+0000
TZOFFSETTO:+0100
DTSTART:19700329T010000
RRULE:FREQ=YEARLY;BYMONTH=3;BYDAY=-1SU
END:DAYLIGHT
BEGIN:STANDARD
TZNAME:GMT
TZOFFSETFROM:+0100
TZOFFSETTO:+0000
DTSTART:19701025T020000
RRULE:FREQ=YEARLY;BYMONTH=10;BYDAY=-1SU
END:STANDARD
END:VTIMEZONE
BEGIN:VEVENT
DTSTART;TZID=Europe/London;VALUE=DATE:20170914
DTEND;TZID=Europe/London;VALUE=DATE:20170915
DTSTAMP:20260423T175707Z
UID:{12E012D9-581B-4042-A8922615B5BF0EB6}
LOCATION:Intensive Care Society\, 7-9 Breams Buildings
SUMMARY:Tracheostomy Study Day
DESCRIPTION:One day course covering all you need to know about tracheostomies. Mixture of lectures given by expert faculty of ICU and ENT clinicians and practical sessions ensuring you are comfortable using all standard and emergency tracheostomies.\n
 \n
 Event details: https://ics.ac.uk/events/calendar/tracheostomy-study-day-TR140917.html
PRIORITY:1
END:VEVENT
END:VCALENDAR