BEGIN:VCALENDAR
PRODID:-//Pixl8//Eventfolio//EN
VERSION:2.0
X-WR-TIMEZONE:Europe/London
CALSCALE:GREGORIAN
METHOD:PUBLISH
CLASS:PUBLIC
BEGIN:VTIMEZONE
TZID:Europe/London
LAST-MODIFIED:20260306T231828Z
TZURL:https://www.tzurl.org/zoneinfo-outlook/Europe/London
X-LIC-LOCATION:Europe/London
BEGIN:DAYLIGHT
TZNAME:BST
TZOFFSETFROM:+0000
TZOFFSETTO:+0100
DTSTART:19700329T010000
RRULE:FREQ=YEARLY;BYMONTH=3;BYDAY=-1SU
END:DAYLIGHT
BEGIN:STANDARD
TZNAME:GMT
TZOFFSETFROM:+0100
TZOFFSETTO:+0000
DTSTART:19701025T020000
RRULE:FREQ=YEARLY;BYMONTH=10;BYDAY=-1SU
END:STANDARD
END:VTIMEZONE
BEGIN:VEVENT
DTSTART;TZID=Europe/London:20221104T110000
DTEND;TZID=Europe/London:20221104T123000
DTSTAMP:20260423T110631Z
UID:{E075809F-5908-40DD-975972506E4FE963}
LOCATION:Virtual
SUMMARY:Thrive at Work - Team Reflection & Debriefing 
DESCRIPTION:A recap on the theory of the TIM Tool and group discussion\n
 \n
 Event details: https://ics.ac.uk/events/calendar/thrive-at-work-team-reflection-debriefing.html
PRIORITY:1
END:VEVENT
END:VCALENDAR