BEGIN:VCALENDAR
PRODID:-//Pixl8//Eventfolio//EN
VERSION:2.0
X-WR-TIMEZONE:Europe/London
CALSCALE:GREGORIAN
METHOD:PUBLISH
CLASS:PUBLIC
BEGIN:VTIMEZONE
TZID:Europe/London
LAST-MODIFIED:20260306T231828Z
TZURL:https://www.tzurl.org/zoneinfo-outlook/Europe/London
X-LIC-LOCATION:Europe/London
BEGIN:DAYLIGHT
TZNAME:BST
TZOFFSETFROM:+0000
TZOFFSETTO:+0100
DTSTART:19700329T010000
RRULE:FREQ=YEARLY;BYMONTH=3;BYDAY=-1SU
END:DAYLIGHT
BEGIN:STANDARD
TZNAME:GMT
TZOFFSETFROM:+0100
TZOFFSETTO:+0000
DTSTART:19701025T020000
RRULE:FREQ=YEARLY;BYMONTH=10;BYDAY=-1SU
END:STANDARD
END:VTIMEZONE
BEGIN:VEVENT
DTSTART;TZID=Europe/London:20220301T093000
DTEND;TZID=Europe/London:20220330T110000
DTSTAMP:20260423T111012Z
UID:{ABBF4800-CE0E-4069-A5AC357BE89E7D8D}
LOCATION:
SUMMARY:Thrive at Work: ICU Sustain
DESCRIPTION:Sometimes we need a little bit longer to work through what’s happening in our minds, and our reactions to what we experience at work. These sessions take place across four weeks to learn as a group of peers about your responses to stress, and how you can better cope with work. You will understand more about how your mind works, alongside the opportunity to share experiences with peers experiencing the same thing.&#160; Duration: This is a course consisting of 4 x 1.5 hour sessions across 4 weeks.\n
 \n
 Event details: https://ics.ac.uk/events/calendar/thrive-at-work-icu-sustain-SUSSEP22.html
PRIORITY:1
END:VEVENT
END:VCALENDAR