BEGIN:VCALENDAR
PRODID:-//Pixl8//Eventfolio//EN
VERSION:2.0
X-WR-TIMEZONE:Europe/London
CALSCALE:GREGORIAN
METHOD:PUBLISH
CLASS:PUBLIC
BEGIN:VTIMEZONE
TZID:Europe/London
LAST-MODIFIED:20260306T231828Z
TZURL:https://www.tzurl.org/zoneinfo-outlook/Europe/London
X-LIC-LOCATION:Europe/London
BEGIN:DAYLIGHT
TZNAME:BST
TZOFFSETFROM:+0000
TZOFFSETTO:+0100
DTSTART:19700329T010000
RRULE:FREQ=YEARLY;BYMONTH=3;BYDAY=-1SU
END:DAYLIGHT
BEGIN:STANDARD
TZNAME:GMT
TZOFFSETFROM:+0100
TZOFFSETTO:+0000
DTSTART:19701025T020000
RRULE:FREQ=YEARLY;BYMONTH=10;BYDAY=-1SU
END:STANDARD
END:VTIMEZONE
BEGIN:VEVENT
DTSTART;TZID=Europe/London:20220915T093000
DTEND;TZID=Europe/London:20220915T110000
DTSTAMP:20260423T175514Z
UID:{630174DA-EC54-4CE0-810FE70B0468BB75}
LOCATION:
SUMMARY:Thrive at Work: ICU Share
DESCRIPTION:This is our last free ICU SHARE event.&#160;&#160; This module focuses on team based strategies for wellbeing. Teamwork makes the dream work - what does that look like in practice?&#160; In this session, we’ll be presenting the evidence base from psychology for understanding what is happening in your team&#160; when they are under stress, and how we can use team working to promote better places to work.\n
 \n
 Event details: https://ics.ac.uk/events/calendar/thrive-at-work-icu-share-SHARESEP.html
PRIORITY:1
END:VEVENT
END:VCALENDAR