BEGIN:VCALENDAR
PRODID:-//Pixl8//Eventfolio//EN
VERSION:2.0
X-WR-TIMEZONE:Europe/London
CALSCALE:GREGORIAN
METHOD:PUBLISH
CLASS:PUBLIC
BEGIN:VTIMEZONE
TZID:Europe/London
LAST-MODIFIED:20260306T231828Z
TZURL:https://www.tzurl.org/zoneinfo-outlook/Europe/London
X-LIC-LOCATION:Europe/London
BEGIN:DAYLIGHT
TZNAME:BST
TZOFFSETFROM:+0000
TZOFFSETTO:+0100
DTSTART:19700329T010000
RRULE:FREQ=YEARLY;BYMONTH=3;BYDAY=-1SU
END:DAYLIGHT
BEGIN:STANDARD
TZNAME:GMT
TZOFFSETFROM:+0100
TZOFFSETTO:+0000
DTSTART:19701025T020000
RRULE:FREQ=YEARLY;BYMONTH=10;BYDAY=-1SU
END:STANDARD
END:VTIMEZONE
BEGIN:VEVENT
DTSTART;TZID=Europe/London:20220922T093000
DTEND;TZID=Europe/London:20220922T110000
DTSTAMP:20260424T023837Z
UID:{BB4E8024-14CB-4F84-886EAC6B61F72AEC}
LOCATION:
SUMMARY:Thrive at Work: ICU Protect
DESCRIPTION:This is our penultimate FREE ICU Protect event.&#160; This module focuses on self-care strategies specific to working in ICU.&#160; We all know we should take better care of ourselves, but do we understand the psychological mechanisms behind it? In this course your knowledge of how you respond to stresses at work will become&#160;clearer and&#160;taking the right actions for you to improve how you manage stress at work.\n
 \n
 Event details: https://ics.ac.uk/events/calendar/thrive-at-work-icu-protect-PROSEP.html
PRIORITY:1
END:VEVENT
END:VCALENDAR