BEGIN:VCALENDAR
PRODID:-//Pixl8//Eventfolio//EN
VERSION:2.0
X-WR-TIMEZONE:Europe/London
CALSCALE:GREGORIAN
METHOD:PUBLISH
CLASS:PUBLIC
BEGIN:VTIMEZONE
TZID:Europe/London
LAST-MODIFIED:20260306T231828Z
TZURL:https://www.tzurl.org/zoneinfo-outlook/Europe/London
X-LIC-LOCATION:Europe/London
BEGIN:DAYLIGHT
TZNAME:BST
TZOFFSETFROM:+0000
TZOFFSETTO:+0100
DTSTART:19700329T010000
RRULE:FREQ=YEARLY;BYMONTH=3;BYDAY=-1SU
END:DAYLIGHT
BEGIN:STANDARD
TZNAME:GMT
TZOFFSETFROM:+0100
TZOFFSETTO:+0000
DTSTART:19701025T020000
RRULE:FREQ=YEARLY;BYMONTH=10;BYDAY=-1SU
END:STANDARD
END:VTIMEZONE
BEGIN:VEVENT
DTSTART;TZID=Europe/London:20221006T093000
DTEND;TZID=Europe/London:20221006T130000
DTSTAMP:20260423T140711Z
UID:{48405156-F287-4744-A1F709A8E3C582A3}
LOCATION:
SUMMARY:Thrive at Work: ICU Engage
DESCRIPTION:This is our last FREE ICU Engage event.&#160; This module focuses on tackling the problems of burnout and disengagement, so you are able to reconnect with work,\n
 \n
 Event details: https://ics.ac.uk/events/calendar/thrive-at-work-icu-engage-ENGOCT.html
PRIORITY:1
END:VEVENT
END:VCALENDAR