BEGIN:VCALENDAR
PRODID:-//Pixl8//Eventfolio//EN
VERSION:2.0
X-WR-TIMEZONE:Europe/London
CALSCALE:GREGORIAN
METHOD:PUBLISH
CLASS:PUBLIC
BEGIN:VTIMEZONE
TZID:Europe/London
LAST-MODIFIED:20260306T231828Z
TZURL:https://www.tzurl.org/zoneinfo-outlook/Europe/London
X-LIC-LOCATION:Europe/London
BEGIN:DAYLIGHT
TZNAME:BST
TZOFFSETFROM:+0000
TZOFFSETTO:+0100
DTSTART:19700329T010000
RRULE:FREQ=YEARLY;BYMONTH=3;BYDAY=-1SU
END:DAYLIGHT
BEGIN:STANDARD
TZNAME:GMT
TZOFFSETFROM:+0100
TZOFFSETTO:+0000
DTSTART:19701025T020000
RRULE:FREQ=YEARLY;BYMONTH=10;BYDAY=-1SU
END:STANDARD
END:VTIMEZONE
BEGIN:VEVENT
DTSTART;TZID=Europe/London:20221020T093000
DTEND;TZID=Europe/London:20221020T110000
DTSTAMP:20260423T140546Z
UID:{8EB6B2E2-52AB-44B8-96B716FACA95691E}
LOCATION:
SUMMARY:Thrive at Work: ICU Aware
DESCRIPTION:The last FREE ICU Aware course.&#160; This module focuses on stress awareness for managers and self-care strategies specific to working in ICU.&#160; You’ll learn how to&#160;recognise&#160;stress in staff you manage and respond quickly and effectively.\n
 \n
 Event details: https://ics.ac.uk/events/calendar/thrive-at-work-icu-aware-AWAREOCT.html
PRIORITY:1
END:VEVENT
END:VCALENDAR