BEGIN:VCALENDAR
PRODID:-//Pixl8//Eventfolio//EN
VERSION:2.0
X-WR-TIMEZONE:Europe/London
CALSCALE:GREGORIAN
METHOD:PUBLISH
CLASS:PUBLIC
BEGIN:VTIMEZONE
TZID:Europe/London
LAST-MODIFIED:20260306T231828Z
TZURL:https://www.tzurl.org/zoneinfo-outlook/Europe/London
X-LIC-LOCATION:Europe/London
BEGIN:DAYLIGHT
TZNAME:BST
TZOFFSETFROM:+0000
TZOFFSETTO:+0100
DTSTART:19700329T010000
RRULE:FREQ=YEARLY;BYMONTH=3;BYDAY=-1SU
END:DAYLIGHT
BEGIN:STANDARD
TZNAME:GMT
TZOFFSETFROM:+0100
TZOFFSETTO:+0000
DTSTART:19701025T020000
RRULE:FREQ=YEARLY;BYMONTH=10;BYDAY=-1SU
END:STANDARD
END:VTIMEZONE
BEGIN:VEVENT
DTSTART;TZID=Europe/London:20220505T093000
DTEND;TZID=Europe/London:20220505T110000
DTSTAMP:20260423T110705Z
UID:{F2979581-16B4-4962-B36D2CCB8ACCAC90}
LOCATION:
SUMMARY:Thrive at Work: ICU Aware
DESCRIPTION:This course is&#160;about stress awareness&#160;for&#160;managers. You’ll learn how to&#160;recognise&#160;stress in staff you manage and respond quickly and effectively.&#160;Up to&#160;30&#160;places will be available&#160;for each session.\n
 \n
 Event details: https://ics.ac.uk/events/calendar/thrive-at-work-icu-aware-AWARE55.html
PRIORITY:1
END:VEVENT
END:VCALENDAR