BEGIN:VCALENDAR
PRODID:-//Pixl8//Eventfolio//EN
VERSION:2.0
X-WR-TIMEZONE:Europe/London
CALSCALE:GREGORIAN
METHOD:PUBLISH
CLASS:PUBLIC
BEGIN:VTIMEZONE
TZID:Europe/London
LAST-MODIFIED:20260306T231828Z
TZURL:https://www.tzurl.org/zoneinfo-outlook/Europe/London
X-LIC-LOCATION:Europe/London
BEGIN:DAYLIGHT
TZNAME:BST
TZOFFSETFROM:+0000
TZOFFSETTO:+0100
DTSTART:19700329T010000
RRULE:FREQ=YEARLY;BYMONTH=3;BYDAY=-1SU
END:DAYLIGHT
BEGIN:STANDARD
TZNAME:GMT
TZOFFSETFROM:+0100
TZOFFSETTO:+0000
DTSTART:19701025T020000
RRULE:FREQ=YEARLY;BYMONTH=10;BYDAY=-1SU
END:STANDARD
END:VTIMEZONE
BEGIN:VEVENT
DTSTART;TZID=Europe/London;VALUE=DATE:20220303
DTEND;TZID=Europe/London;VALUE=DATE:20220304
DTSTAMP:20260424T043359Z
UID:{7BEC932F-C176-48C4-915F2897D33664E6}
LOCATION:
SUMMARY:Take part in the London Landmarks Half Marathon!
DESCRIPTION:The ICS is pleased to announce we have 5 spaces available for the 2022 London Landmarks Half Marathon. This brilliant half marathon takes you past some of London’s most iconic landmarks.\n
 \n
 Event details: https://ics.ac.uk/events/calendar/take-part-in-the-london-landmarks-half-marathon-LLHM2021.html
PRIORITY:1
END:VEVENT
END:VCALENDAR