BEGIN:VCALENDAR
PRODID:-//Pixl8//Eventfolio//EN
VERSION:2.0
X-WR-TIMEZONE:Europe/London
CALSCALE:GREGORIAN
METHOD:PUBLISH
CLASS:PUBLIC
BEGIN:VTIMEZONE
TZID:Europe/London
LAST-MODIFIED:20260306T231828Z
TZURL:https://www.tzurl.org/zoneinfo-outlook/Europe/London
X-LIC-LOCATION:Europe/London
BEGIN:DAYLIGHT
TZNAME:BST
TZOFFSETFROM:+0000
TZOFFSETTO:+0100
DTSTART:19700329T010000
RRULE:FREQ=YEARLY;BYMONTH=3;BYDAY=-1SU
END:DAYLIGHT
BEGIN:STANDARD
TZNAME:GMT
TZOFFSETFROM:+0100
TZOFFSETTO:+0000
DTSTART:19701025T020000
RRULE:FREQ=YEARLY;BYMONTH=10;BYDAY=-1SU
END:STANDARD
END:VTIMEZONE
BEGIN:VEVENT
DTSTART;TZID=Europe/London:20241106T093000
DTEND;TZID=Europe/London:20241106T170000
DTSTAMP:20260423T110617Z
UID:{52905C31-E6DB-428A-AED15CC2D80CB6B6}
LOCATION:Intensive Care Society\, 7-9 Breams Buildings\, London\, EC4A 1DT
SUMMARY:Systems Leadership
DESCRIPTION:Join our LeaP3 cohort for the day for this face to face event at our London offices exploring Systems Leadership with Dr Ian Macdonald.\n
 \n
 Event details: https://ics.ac.uk/events/calendar/systems-leadership.html
PRIORITY:1
END:VEVENT
END:VCALENDAR