BEGIN:VCALENDAR
PRODID:-//Pixl8//Eventfolio//EN
VERSION:2.0
X-WR-TIMEZONE:Europe/London
CALSCALE:GREGORIAN
METHOD:PUBLISH
CLASS:PUBLIC
BEGIN:VTIMEZONE
TZID:Europe/London
LAST-MODIFIED:20260306T231828Z
TZURL:https://www.tzurl.org/zoneinfo-outlook/Europe/London
X-LIC-LOCATION:Europe/London
BEGIN:DAYLIGHT
TZNAME:BST
TZOFFSETFROM:+0000
TZOFFSETTO:+0100
DTSTART:19700329T010000
RRULE:FREQ=YEARLY;BYMONTH=3;BYDAY=-1SU
END:DAYLIGHT
BEGIN:STANDARD
TZNAME:GMT
TZOFFSETFROM:+0100
TZOFFSETTO:+0000
DTSTART:19701025T020000
RRULE:FREQ=YEARLY;BYMONTH=10;BYDAY=-1SU
END:STANDARD
END:VTIMEZONE
BEGIN:VEVENT
DTSTART;TZID=Europe/London:20170904T090000
DTEND;TZID=Europe/London:20170904T170000
DTSTAMP:20260423T180115Z
UID:{EEB416D5-661F-4ADD-AB063B5A4C677B02}
LOCATION:
SUMMARY:Supporting Wellbeing & Coping with Burnout in Critical Care
DESCRIPTION:This one-day seminar targeted towards the whole Intensive Care MDT aims to unpick the issues that lie at the root of workplace stress in ICU and explore how these factors might be mitigated. Workplace wellbeing will be considered at a personal and institution organisational level, discussing examples of effective practice and successful interventions, with plenty of time to reflect and share experiences and learning with each other.\n
 \n
 Event details: https://ics.ac.uk/events/calendar/supporting-wellbeing--coping-with-burnout-in-critical-care-WEL040917.html
PRIORITY:1
END:VEVENT
END:VCALENDAR