BEGIN:VCALENDAR
PRODID:-//Pixl8//Eventfolio//EN
VERSION:2.0
X-WR-TIMEZONE:Europe/London
CALSCALE:GREGORIAN
METHOD:PUBLISH
CLASS:PUBLIC
BEGIN:VTIMEZONE
TZID:Europe/London
LAST-MODIFIED:20260306T231828Z
TZURL:https://www.tzurl.org/zoneinfo-outlook/Europe/London
X-LIC-LOCATION:Europe/London
BEGIN:DAYLIGHT
TZNAME:BST
TZOFFSETFROM:+0000
TZOFFSETTO:+0100
DTSTART:19700329T010000
RRULE:FREQ=YEARLY;BYMONTH=3;BYDAY=-1SU
END:DAYLIGHT
BEGIN:STANDARD
TZNAME:GMT
TZOFFSETFROM:+0100
TZOFFSETTO:+0000
DTSTART:19701025T020000
RRULE:FREQ=YEARLY;BYMONTH=10;BYDAY=-1SU
END:STANDARD
END:VTIMEZONE
BEGIN:VEVENT
DTSTART;TZID=Europe/London:20220908T110000
DTEND;TZID=Europe/London:20220908T123000
DTSTAMP:20260423T180109Z
UID:{6BC2AABE-A15E-4978-88328F6C47F16102}
LOCATION:
SUMMARY:Supporting patient wellbeing during rehabilitation
DESCRIPTION:As part of our Thrive at Work Project, Clinical Psychologist Dr Katherine O&#39;Neil, will be delivering a session that provides you with the tools to help lead on patient wellbeing during rehabilitation.\n
 \n
 Event details: https://ics.ac.uk/events/calendar/supporting-patient-wellbeing-during-rehabilitation-PWRSEP.html
PRIORITY:1
END:VEVENT
END:VCALENDAR