BEGIN:VCALENDAR
PRODID:-//Pixl8//Eventfolio//EN
VERSION:2.0
X-WR-TIMEZONE:Europe/London
CALSCALE:GREGORIAN
METHOD:PUBLISH
CLASS:PUBLIC
BEGIN:VTIMEZONE
TZID:Europe/London
LAST-MODIFIED:20260306T231828Z
TZURL:https://www.tzurl.org/zoneinfo-outlook/Europe/London
X-LIC-LOCATION:Europe/London
BEGIN:DAYLIGHT
TZNAME:BST
TZOFFSETFROM:+0000
TZOFFSETTO:+0100
DTSTART:19700329T010000
RRULE:FREQ=YEARLY;BYMONTH=3;BYDAY=-1SU
END:DAYLIGHT
BEGIN:STANDARD
TZNAME:GMT
TZOFFSETFROM:+0100
TZOFFSETTO:+0000
DTSTART:19701025T020000
RRULE:FREQ=YEARLY;BYMONTH=10;BYDAY=-1SU
END:STANDARD
END:VTIMEZONE
BEGIN:VEVENT
DTSTART;TZID=Europe/London:20220503T093000
DTEND;TZID=Europe/London:20220507T170000
DTSTAMP:20260423T215358Z
UID:{C2231635-F222-4B0E-A2D3FB2C52EB1560}
LOCATION:
SUMMARY:STUDY DAYS AUTUMN 2022 - Register your interest
DESCRIPTION:A series of study days across a wide range of subjects throughout the autumn aimed at engaging our community across a range of topics.\n
 \n
 Event details: https://ics.ac.uk/events/calendar/study-days-autumn-2022---register-your-interest-STUDAYS22.html
PRIORITY:1
END:VEVENT
END:VCALENDAR