BEGIN:VCALENDAR
PRODID:-//Pixl8//Eventfolio//EN
VERSION:2.0
X-WR-TIMEZONE:Europe/London
CALSCALE:GREGORIAN
METHOD:PUBLISH
CLASS:PUBLIC
BEGIN:VTIMEZONE
TZID:Europe/London
LAST-MODIFIED:20260306T231828Z
TZURL:https://www.tzurl.org/zoneinfo-outlook/Europe/London
X-LIC-LOCATION:Europe/London
BEGIN:DAYLIGHT
TZNAME:BST
TZOFFSETFROM:+0000
TZOFFSETTO:+0100
DTSTART:19700329T010000
RRULE:FREQ=YEARLY;BYMONTH=3;BYDAY=-1SU
END:DAYLIGHT
BEGIN:STANDARD
TZNAME:GMT
TZOFFSETFROM:+0100
TZOFFSETTO:+0000
DTSTART:19701025T020000
RRULE:FREQ=YEARLY;BYMONTH=10;BYDAY=-1SU
END:STANDARD
END:VTIMEZONE
BEGIN:VEVENT
DTSTART;TZID=Europe/London;VALUE=DATE:20171124
DTEND;TZID=Europe/London;VALUE=DATE:20171125
DTSTAMP:20260423T175452Z
UID:{E8670AD5-FAF8-4F85-B4BB177C762D9F5C}
LOCATION:
SUMMARY:Resuscitation
DESCRIPTION:The quality of care given to a patient after initial resuscitation from cardiac arrest impacts significantly on their final outcome. This seminar will cover several aspects of post cardiac arrest management including: the epidemiology and outcome, oxygenation and ventilation target, extracorporeal CPR, urgent angiography, targeted temperature management, and prognostication.\n
 \n
 Event details: https://ics.ac.uk/events/calendar/resuscitation-RES421117.html
PRIORITY:1
END:VEVENT
END:VCALENDAR