BEGIN:VCALENDAR
PRODID:-//Pixl8//Eventfolio//EN
VERSION:2.0
X-WR-TIMEZONE:Europe/London
CALSCALE:GREGORIAN
METHOD:PUBLISH
CLASS:PUBLIC
BEGIN:VTIMEZONE
TZID:Europe/London
LAST-MODIFIED:20260306T231828Z
TZURL:https://www.tzurl.org/zoneinfo-outlook/Europe/London
X-LIC-LOCATION:Europe/London
BEGIN:DAYLIGHT
TZNAME:BST
TZOFFSETFROM:+0000
TZOFFSETTO:+0100
DTSTART:19700329T010000
RRULE:FREQ=YEARLY;BYMONTH=3;BYDAY=-1SU
END:DAYLIGHT
BEGIN:STANDARD
TZNAME:GMT
TZOFFSETFROM:+0100
TZOFFSETTO:+0000
DTSTART:19701025T020000
RRULE:FREQ=YEARLY;BYMONTH=10;BYDAY=-1SU
END:STANDARD
END:VTIMEZONE
BEGIN:VEVENT
DTSTART;TZID=Europe/London;VALUE=DATE:20171120
DTEND;TZID=Europe/London;VALUE=DATE:20171121
DTSTAMP:20260423T191057Z
UID:{A2F9D3C2-4CD8-4806-96CE79BAF774A1CF}
LOCATION:Intensive Care Society\, 7-9 Breams Buildings
SUMMARY:Renal
DESCRIPTION:The programme is structured around examining evidence-based bedside management of patients with AKI and effective use of RRT. Themes will also include; appropriate use of diuretics, choice of anticoagulation including role of citrate, renal protection and evaluation of CKD.\n
 \n
 \n
 \n
 Workshop: Delegates will have the opportunity for hands-on experience on “running” RRT machines during small group workshops. These interactive sessions will explore tips to reduce risk of filter clotting and other technical problems, and use of different modes of RRT depending on clinical situation. These will cover both conventional and citrate anticoagulation\n
 \n
 Event details: https://ics.ac.uk/events/calendar/renal-RE201117.html
PRIORITY:1
END:VEVENT
END:VCALENDAR