BEGIN:VCALENDAR
PRODID:-//Pixl8//Eventfolio//EN
VERSION:2.0
X-WR-TIMEZONE:Europe/London
CALSCALE:GREGORIAN
METHOD:PUBLISH
CLASS:PUBLIC
BEGIN:VTIMEZONE
TZID:Europe/London
LAST-MODIFIED:20260306T231828Z
TZURL:https://www.tzurl.org/zoneinfo-outlook/Europe/London
X-LIC-LOCATION:Europe/London
BEGIN:DAYLIGHT
TZNAME:BST
TZOFFSETFROM:+0000
TZOFFSETTO:+0100
DTSTART:19700329T010000
RRULE:FREQ=YEARLY;BYMONTH=3;BYDAY=-1SU
END:DAYLIGHT
BEGIN:STANDARD
TZNAME:GMT
TZOFFSETFROM:+0100
TZOFFSETTO:+0000
DTSTART:19701025T020000
RRULE:FREQ=YEARLY;BYMONTH=10;BYDAY=-1SU
END:STANDARD
END:VTIMEZONE
BEGIN:VEVENT
DTSTART;TZID=Europe/London:20210615T183000
DTEND;TZID=Europe/London:20210615T200000
DTSTAMP:20260423T190710Z
UID:{4790F3EC-7F66-457B-85F6E825B130D2D8}
LOCATION:
SUMMARY:Psychoeducation: ICU Sustain
DESCRIPTION:Sometimes we need just a little bit longer to work through what’s happening in our own minds, and our reactions to what we experience at work. These sessions&#160;take place across&#160;a&#160;four-week&#160;period&#160;to learn as a group of peers about your responses to stress, and how you can better cope with work. You will understand more about how your mind works, alongside the opportunity to share experiences with peers going through the same thing.\n
 \n
 Event details: https://ics.ac.uk/events/calendar/psychoeducation-icu-sustain-WEBSUS220.html
PRIORITY:1
END:VEVENT
END:VCALENDAR