BEGIN:VCALENDAR
PRODID:-//Pixl8//Eventfolio//EN
VERSION:2.0
X-WR-TIMEZONE:Europe/London
CALSCALE:GREGORIAN
METHOD:PUBLISH
CLASS:PUBLIC
BEGIN:VTIMEZONE
TZID:Europe/London
LAST-MODIFIED:20260306T231828Z
TZURL:https://www.tzurl.org/zoneinfo-outlook/Europe/London
X-LIC-LOCATION:Europe/London
BEGIN:DAYLIGHT
TZNAME:BST
TZOFFSETFROM:+0000
TZOFFSETTO:+0100
DTSTART:19700329T010000
RRULE:FREQ=YEARLY;BYMONTH=3;BYDAY=-1SU
END:DAYLIGHT
BEGIN:STANDARD
TZNAME:GMT
TZOFFSETFROM:+0100
TZOFFSETTO:+0000
DTSTART:19701025T020000
RRULE:FREQ=YEARLY;BYMONTH=10;BYDAY=-1SU
END:STANDARD
END:VTIMEZONE
BEGIN:VEVENT
DTSTART;TZID=Europe/London:20210309T180000
DTEND;TZID=Europe/London:20210330T193000
DTSTAMP:20260423T111459Z
UID:{D0ABE171-0ACD-419C-AAAB186F48120C39}
LOCATION:
SUMMARY:Psychoeducation: ICU Sustain (Event full)
DESCRIPTION:This course is a closed group across four sessions about&#160;managing the psychological impact of working in ICU.&#160;It&#160;provides&#160;group psychoeducation and self-management of repeated exposure to trauma and its&#160;impact,&#160;to help&#160;you&#160;make&#160;sense of clinical experience.&#160;These sessions will be run in closed groups&#160;of 6 – 10&#160;members.\n
 \n
 Event details: https://ics.ac.uk/events/calendar/psychoeducation-icu-sustain-(event-full)-WEBSUST2.html
PRIORITY:1
END:VEVENT
END:VCALENDAR