BEGIN:VCALENDAR
PRODID:-//Pixl8//Eventfolio//EN
VERSION:2.0
X-WR-TIMEZONE:Europe/London
CALSCALE:GREGORIAN
METHOD:PUBLISH
CLASS:PUBLIC
BEGIN:VTIMEZONE
TZID:Europe/London
LAST-MODIFIED:20260306T231828Z
TZURL:https://www.tzurl.org/zoneinfo-outlook/Europe/London
X-LIC-LOCATION:Europe/London
BEGIN:DAYLIGHT
TZNAME:BST
TZOFFSETFROM:+0000
TZOFFSETTO:+0100
DTSTART:19700329T010000
RRULE:FREQ=YEARLY;BYMONTH=3;BYDAY=-1SU
END:DAYLIGHT
BEGIN:STANDARD
TZNAME:GMT
TZOFFSETFROM:+0100
TZOFFSETTO:+0000
DTSTART:19701025T020000
RRULE:FREQ=YEARLY;BYMONTH=10;BYDAY=-1SU
END:STANDARD
END:VTIMEZONE
BEGIN:VEVENT
DTSTART;TZID=Europe/London:20210624T183000
DTEND;TZID=Europe/London:20210624T200000
DTSTAMP:20260423T110716Z
UID:{8F38724E-4EC4-4088-B44370D5B42C3FB7}
LOCATION:
SUMMARY:Psychoeducation: ICU Share
DESCRIPTION:Teamwork&#160;makes the dream work&#160;-&#160;what does that look like in practice?&#160;In this session, we’ll be presenting the evidence base from psychology for understanding what is happening in your team when they are under stress, and how we can use team working to promote better places to work.\n
 \n
 Event details: https://ics.ac.uk/events/calendar/psychoeducation-icu-share-WEBSHA220.html
PRIORITY:1
END:VEVENT
END:VCALENDAR