BEGIN:VCALENDAR
PRODID:-//Pixl8//Eventfolio//EN
VERSION:2.0
X-WR-TIMEZONE:Europe/London
CALSCALE:GREGORIAN
METHOD:PUBLISH
CLASS:PUBLIC
BEGIN:VTIMEZONE
TZID:Europe/London
LAST-MODIFIED:20260306T231828Z
TZURL:https://www.tzurl.org/zoneinfo-outlook/Europe/London
X-LIC-LOCATION:Europe/London
BEGIN:DAYLIGHT
TZNAME:BST
TZOFFSETFROM:+0000
TZOFFSETTO:+0100
DTSTART:19700329T010000
RRULE:FREQ=YEARLY;BYMONTH=3;BYDAY=-1SU
END:DAYLIGHT
BEGIN:STANDARD
TZNAME:GMT
TZOFFSETFROM:+0100
TZOFFSETTO:+0000
DTSTART:19701025T020000
RRULE:FREQ=YEARLY;BYMONTH=10;BYDAY=-1SU
END:STANDARD
END:VTIMEZONE
BEGIN:VEVENT
DTSTART;TZID=Europe/London:20210428T130000
DTEND;TZID=Europe/London:20210428T143000
DTSTAMP:20260423T110804Z
UID:{96697595-01A6-40B7-A56306E2A698BF07}
LOCATION:
SUMMARY:Psychoeducation: ICU Protect
DESCRIPTION:Here you’ll learn how to&#160;manage&#160;your&#160;stress in ICU.&#160;Explore stress awareness and self-care techniques in greater detail in intensive care staff.&#160;Up to 30 places will be available for each session.\n
 \n
 Event details: https://ics.ac.uk/events/calendar/psychoeducation-icu-protect-WEBPROT284.html
PRIORITY:1
END:VEVENT
END:VCALENDAR