BEGIN:VCALENDAR
PRODID:-//Pixl8//Eventfolio//EN
VERSION:2.0
X-WR-TIMEZONE:Europe/London
CALSCALE:GREGORIAN
METHOD:PUBLISH
CLASS:PUBLIC
BEGIN:VTIMEZONE
TZID:Europe/London
LAST-MODIFIED:20260306T231828Z
TZURL:https://www.tzurl.org/zoneinfo-outlook/Europe/London
X-LIC-LOCATION:Europe/London
BEGIN:DAYLIGHT
TZNAME:BST
TZOFFSETFROM:+0000
TZOFFSETTO:+0100
DTSTART:19700329T010000
RRULE:FREQ=YEARLY;BYMONTH=3;BYDAY=-1SU
END:DAYLIGHT
BEGIN:STANDARD
TZNAME:GMT
TZOFFSETFROM:+0100
TZOFFSETTO:+0000
DTSTART:19701025T020000
RRULE:FREQ=YEARLY;BYMONTH=10;BYDAY=-1SU
END:STANDARD
END:VTIMEZONE
BEGIN:VEVENT
DTSTART;TZID=Europe/London:20210514T093000
DTEND;TZID=Europe/London:20210514T130000
DTSTAMP:20260423T110927Z
UID:{B508D50E-5FF3-406A-A862B04A3615577C}
LOCATION:
SUMMARY:Psychoeducation: ICU Engage
DESCRIPTION:This course is about helping you prevent burnout and reconnect with your core purpose at work.&#160;It&#160;tackles&#160;the problems of&#160;burnout and disengagement.&#160;Up to 30 places will be available for each session.\n
 \n
 Event details: https://ics.ac.uk/events/calendar/psychoeducation-icu-engage-WEBENGA145.html
PRIORITY:1
END:VEVENT
END:VCALENDAR