BEGIN:VCALENDAR
PRODID:-//Pixl8//Eventfolio//EN
VERSION:2.0
X-WR-TIMEZONE:Europe/London
CALSCALE:GREGORIAN
METHOD:PUBLISH
CLASS:PUBLIC
BEGIN:VTIMEZONE
TZID:Europe/London
LAST-MODIFIED:20260306T231828Z
TZURL:https://www.tzurl.org/zoneinfo-outlook/Europe/London
X-LIC-LOCATION:Europe/London
BEGIN:DAYLIGHT
TZNAME:BST
TZOFFSETFROM:+0000
TZOFFSETTO:+0100
DTSTART:19700329T010000
RRULE:FREQ=YEARLY;BYMONTH=3;BYDAY=-1SU
END:DAYLIGHT
BEGIN:STANDARD
TZNAME:GMT
TZOFFSETFROM:+0100
TZOFFSETTO:+0000
DTSTART:19701025T020000
RRULE:FREQ=YEARLY;BYMONTH=10;BYDAY=-1SU
END:STANDARD
END:VTIMEZONE
BEGIN:VEVENT
DTSTART;TZID=Europe/London:20211105T123000
DTEND;TZID=Europe/London:20211105T160000
DTSTAMP:20260423T175708Z
UID:{5CC918A0-5DDE-4883-A3BB48A836158B2C}
LOCATION:
SUMMARY:Psychoeducation: ICU Engage
DESCRIPTION:Burnout is often spoken about in intensive care, but do we really understand what it means? Its more than feeling tired. In this half day session, you will learn the research and evidence base behind burnout syndrome, how it is an occupational phenomenon rather than a medical condition, and, importantly, understand the science of motivation and engagement to alleviate your experience of burnout. Duration - 3.5 hours (including a short break)\n
 \n
 Event details: https://ics.ac.uk/events/calendar/psychoeducation-icu-engage-WEBENG11.html
PRIORITY:1
END:VEVENT
END:VCALENDAR