BEGIN:VCALENDAR
PRODID:-//Pixl8//Eventfolio//EN
VERSION:2.0
X-WR-TIMEZONE:Europe/London
CALSCALE:GREGORIAN
METHOD:PUBLISH
CLASS:PUBLIC
BEGIN:VTIMEZONE
TZID:Europe/London
LAST-MODIFIED:20260306T231828Z
TZURL:https://www.tzurl.org/zoneinfo-outlook/Europe/London
X-LIC-LOCATION:Europe/London
BEGIN:DAYLIGHT
TZNAME:BST
TZOFFSETFROM:+0000
TZOFFSETTO:+0100
DTSTART:19700329T010000
RRULE:FREQ=YEARLY;BYMONTH=3;BYDAY=-1SU
END:DAYLIGHT
BEGIN:STANDARD
TZNAME:GMT
TZOFFSETFROM:+0100
TZOFFSETTO:+0000
DTSTART:19701025T020000
RRULE:FREQ=YEARLY;BYMONTH=10;BYDAY=-1SU
END:STANDARD
END:VTIMEZONE
BEGIN:VEVENT
DTSTART;TZID=Europe/London:20210715T183000
DTEND;TZID=Europe/London:20210715T200000
DTSTAMP:20260423T140711Z
UID:{9738E9EA-BD6E-4A93-B35D504FEA7847A9}
LOCATION:
SUMMARY:Psychoeducation: ICU Aware
DESCRIPTION:The job of a team leader or manager is a challenging but rewarding one. It can be hard to know how to get the best out of your team and support them well. In this session we offer you ways of understanding your team’s&#160;mindset and&#160;supporting their mental health.\n
 \n
 Event details: https://ics.ac.uk/events/calendar/psychoeducation-icu-aware-WEBAWA220.html
PRIORITY:1
END:VEVENT
END:VCALENDAR