BEGIN:VCALENDAR
PRODID:-//Pixl8//Eventfolio//EN
VERSION:2.0
X-WR-TIMEZONE:Europe/London
CALSCALE:GREGORIAN
METHOD:PUBLISH
CLASS:PUBLIC
BEGIN:VTIMEZONE
TZID:Europe/London
LAST-MODIFIED:20260306T231828Z
TZURL:https://www.tzurl.org/zoneinfo-outlook/Europe/London
X-LIC-LOCATION:Europe/London
BEGIN:DAYLIGHT
TZNAME:BST
TZOFFSETFROM:+0000
TZOFFSETTO:+0100
DTSTART:19700329T010000
RRULE:FREQ=YEARLY;BYMONTH=3;BYDAY=-1SU
END:DAYLIGHT
BEGIN:STANDARD
TZNAME:GMT
TZOFFSETFROM:+0100
TZOFFSETTO:+0000
DTSTART:19701025T020000
RRULE:FREQ=YEARLY;BYMONTH=10;BYDAY=-1SU
END:STANDARD
END:VTIMEZONE
BEGIN:VEVENT
DTSTART;TZID=Europe/London:20170510T093000
DTEND;TZID=Europe/London:20170510T160000
DTSTAMP:20260423T140716Z
UID:{16B2DAF7-D3F6-4DA1-8A6AFC399DAF980A}
LOCATION:Intensive Care Society\, 7-9 Breams Buildings
SUMMARY:Pre-Retirement Seminar
DESCRIPTION:Free for members. \n
 \n
 \n
 \n
 Keeping your retirement plans on track can be a challenging task. With increased flexiabilities which may be avaliable when considering your retirement income options it is now more important than ever to make sure you are in control of your retirement plans.\n
 \n
 Event details: https://ics.ac.uk/events/calendar/pre-retirement-seminar-AF10517.html
PRIORITY:1
END:VEVENT
END:VCALENDAR