BEGIN:VCALENDAR
PRODID:-//Pixl8//Eventfolio//EN
VERSION:2.0
X-WR-TIMEZONE:Europe/London
CALSCALE:GREGORIAN
METHOD:PUBLISH
CLASS:PUBLIC
BEGIN:VTIMEZONE
TZID:Europe/London
LAST-MODIFIED:20260306T231828Z
TZURL:https://www.tzurl.org/zoneinfo-outlook/Europe/London
X-LIC-LOCATION:Europe/London
BEGIN:DAYLIGHT
TZNAME:BST
TZOFFSETFROM:+0000
TZOFFSETTO:+0100
DTSTART:19700329T010000
RRULE:FREQ=YEARLY;BYMONTH=3;BYDAY=-1SU
END:DAYLIGHT
BEGIN:STANDARD
TZNAME:GMT
TZOFFSETFROM:+0100
TZOFFSETTO:+0000
DTSTART:19701025T020000
RRULE:FREQ=YEARLY;BYMONTH=10;BYDAY=-1SU
END:STANDARD
END:VTIMEZONE
BEGIN:VEVENT
DTSTART;TZID=Europe/London:20210318T190000
DTEND;TZID=Europe/London:20210318T200000
DTSTAMP:20260423T111544Z
UID:{463DD04C-331A-43FF-BD07AEF9046C6E63}
LOCATION:
SUMMARY:Pause and Reflect: How are we doing right now?
DESCRIPTION:In the next of our workforce wellbeing webinars, Dr Julie Highfield takes time to help us take stock of what we have experienced. Based on her conversations with staff she will present on the core experiences ICU staff have reported coming through this second wave, and help make sense of the impacts of the overstimulation of work vs the under stimulation of aspects of home life. She will be joined by a multi professional panel of ICU colleagues, including &#160;Dr Aoife Abbey, Consultant in Intensive Care Medicine, as they discuss together some of their experiences and observations.\n
 \n
 Event details: https://ics.ac.uk/events/calendar/pause-and-reflect-how-are-we-doing-right-now-WEBPAUSE.html
PRIORITY:1
END:VEVENT
END:VCALENDAR