BEGIN:VCALENDAR
PRODID:-//Pixl8//Eventfolio//EN
VERSION:2.0
X-WR-TIMEZONE:Europe/London
CALSCALE:GREGORIAN
METHOD:PUBLISH
CLASS:PUBLIC
BEGIN:VTIMEZONE
TZID:Europe/London
LAST-MODIFIED:20260306T231828Z
TZURL:https://www.tzurl.org/zoneinfo-outlook/Europe/London
X-LIC-LOCATION:Europe/London
BEGIN:DAYLIGHT
TZNAME:BST
TZOFFSETFROM:+0000
TZOFFSETTO:+0100
DTSTART:19700329T010000
RRULE:FREQ=YEARLY;BYMONTH=3;BYDAY=-1SU
END:DAYLIGHT
BEGIN:STANDARD
TZNAME:GMT
TZOFFSETFROM:+0100
TZOFFSETTO:+0000
DTSTART:19701025T020000
RRULE:FREQ=YEARLY;BYMONTH=10;BYDAY=-1SU
END:STANDARD
END:VTIMEZONE
BEGIN:VEVENT
DTSTART;TZID=Europe/London;VALUE=DATE:20170515
DTEND;TZID=Europe/London;VALUE=DATE:20170516
DTSTAMP:20260423T191310Z
UID:{B0098D32-F343-455C-ADA5F4AB22BD0044}
LOCATION:
SUMMARY:Neurological Disease in Critical Care - FULLY BOOKED
DESCRIPTION:Held at the historic Liverpool Medical Institution, this seminar will explore updates in brain disease in critical care covering a wide range of topics from stroke and head injury to encephalitis and rehabilitation.\n
 \n
 Event details: https://ics.ac.uk/events/calendar/neurological-disease-in-critical-care---fully-booked-NEURO15517.html
PRIORITY:1
END:VEVENT
END:VCALENDAR