BEGIN:VCALENDAR
PRODID:-//Pixl8//Eventfolio//EN
VERSION:2.0
X-WR-TIMEZONE:Europe/London
CALSCALE:GREGORIAN
METHOD:PUBLISH
CLASS:PUBLIC
BEGIN:VTIMEZONE
TZID:Europe/London
LAST-MODIFIED:20260306T231828Z
TZURL:https://www.tzurl.org/zoneinfo-outlook/Europe/London
X-LIC-LOCATION:Europe/London
BEGIN:DAYLIGHT
TZNAME:BST
TZOFFSETFROM:+0000
TZOFFSETTO:+0100
DTSTART:19700329T010000
RRULE:FREQ=YEARLY;BYMONTH=3;BYDAY=-1SU
END:DAYLIGHT
BEGIN:STANDARD
TZNAME:GMT
TZOFFSETFROM:+0100
TZOFFSETTO:+0000
DTSTART:19701025T020000
RRULE:FREQ=YEARLY;BYMONTH=10;BYDAY=-1SU
END:STANDARD
END:VTIMEZONE
BEGIN:VEVENT
DTSTART;TZID=Europe/London:20180430T090000
DTEND;TZID=Europe/London:20180430T170000
DTSTAMP:20260423T180001Z
UID:{6F5E154C-DC09-4F33-93265A381C4BBC77}
LOCATION:
SUMMARY:Medicine for Intensivists
DESCRIPTION:Intensive Care has changed. Now more than ever, it is about the diagnosis and management of complex medical conditions rather than &#39;just organ support&#39;. This conference tells you the latest about the conditions which might put a patient ON intensive care, or which might afflict them whilst there. It is NOT &#39;intensive care management&#39; per se.\n
 \n
 \n
 \n
 \n
 \n
 The aim is for clinicians of all grades to understand the diseases they see on ICU: how they present, how to diagnose them, how they are investigated, and the &#39;tricks of treatment&#39;.\n
 \n
 Event details: https://ics.ac.uk/events/calendar/medicine-for-intensivists-MEDINTENSE.html
PRIORITY:1
END:VEVENT
END:VCALENDAR