BEGIN:VCALENDAR
PRODID:-//Pixl8//Eventfolio//EN
VERSION:2.0
X-WR-TIMEZONE:Europe/London
CALSCALE:GREGORIAN
METHOD:PUBLISH
CLASS:PUBLIC
BEGIN:VTIMEZONE
TZID:Europe/London
LAST-MODIFIED:20260306T231828Z
TZURL:https://www.tzurl.org/zoneinfo-outlook/Europe/London
X-LIC-LOCATION:Europe/London
BEGIN:DAYLIGHT
TZNAME:BST
TZOFFSETFROM:+0000
TZOFFSETTO:+0100
DTSTART:19700329T010000
RRULE:FREQ=YEARLY;BYMONTH=3;BYDAY=-1SU
END:DAYLIGHT
BEGIN:STANDARD
TZNAME:GMT
TZOFFSETFROM:+0100
TZOFFSETTO:+0000
DTSTART:19701025T020000
RRULE:FREQ=YEARLY;BYMONTH=10;BYDAY=-1SU
END:STANDARD
END:VTIMEZONE
BEGIN:VEVENT
DTSTART;TZID=Europe/London:20211228T090000
DTEND;TZID=Europe/London:20211228T170000
DTSTAMP:20260423T180108Z
UID:{3C60842B-CE7E-4822-A733290A9544CD55}
LOCATION:
SUMMARY:Medicine for Intensive Care - Online version
DESCRIPTION:Intensive Care is perhaps the last remaining discipline where staff have to manage diseases of all systems: from liver failure to drug overdose,?PE to HIV,?SLE to SBE.?&#160; It is about the diagnosis and management of complex medical conditions rather than just organ support.\n
 \n
 Event details: https://ics.ac.uk/events/calendar/medicine-for-intensive-care---online-version-VIRMIC0922.html
PRIORITY:1
END:VEVENT
END:VCALENDAR