BEGIN:VCALENDAR
PRODID:-//Pixl8//Eventfolio//EN
VERSION:2.0
X-WR-TIMEZONE:Europe/London
CALSCALE:GREGORIAN
METHOD:PUBLISH
CLASS:PUBLIC
BEGIN:VTIMEZONE
TZID:Europe/London
LAST-MODIFIED:20260306T231828Z
TZURL:https://www.tzurl.org/zoneinfo-outlook/Europe/London
X-LIC-LOCATION:Europe/London
BEGIN:DAYLIGHT
TZNAME:BST
TZOFFSETFROM:+0000
TZOFFSETTO:+0100
DTSTART:19700329T010000
RRULE:FREQ=YEARLY;BYMONTH=3;BYDAY=-1SU
END:DAYLIGHT
BEGIN:STANDARD
TZNAME:GMT
TZOFFSETFROM:+0100
TZOFFSETTO:+0000
DTSTART:19701025T020000
RRULE:FREQ=YEARLY;BYMONTH=10;BYDAY=-1SU
END:STANDARD
END:VTIMEZONE
BEGIN:VEVENT
DTSTART;TZID=Europe/London:20220211T123000
DTEND;TZID=Europe/London:20220211T131500
DTSTAMP:20260423T141029Z
UID:{25BF6D56-A358-4BB2-B25DA56CDC42E177}
LOCATION:
SUMMARY:Lunchtime Webinar - Optimising your Abstract
DESCRIPTION:A lunchtime webinar to help you optimise your abstract writing skills and make the most of opportunities for publication.&#160; With the 2022 State of the Art Congress just around the corner (28 June-1 July), this is a great time to showcase your projects, case reports and reflections within the wider intensive care community.&#160;&#160; Two brief talks: * How to write a good abstract * Maximising your chances of publication and a discussion forum\n
 \n
 Event details: https://ics.ac.uk/events/calendar/lunchtime-webinar---optimising-your-abstract-ABWEB112.html
PRIORITY:1
END:VEVENT
END:VCALENDAR