BEGIN:VCALENDAR
PRODID:-//Pixl8//Eventfolio//EN
VERSION:2.0
X-WR-TIMEZONE:Europe/London
CALSCALE:GREGORIAN
METHOD:PUBLISH
CLASS:PUBLIC
BEGIN:VTIMEZONE
TZID:Europe/London
LAST-MODIFIED:20260306T231828Z
TZURL:https://www.tzurl.org/zoneinfo-outlook/Europe/London
X-LIC-LOCATION:Europe/London
BEGIN:DAYLIGHT
TZNAME:BST
TZOFFSETFROM:+0000
TZOFFSETTO:+0100
DTSTART:19700329T010000
RRULE:FREQ=YEARLY;BYMONTH=3;BYDAY=-1SU
END:DAYLIGHT
BEGIN:STANDARD
TZNAME:GMT
TZOFFSETFROM:+0100
TZOFFSETTO:+0000
DTSTART:19701025T020000
RRULE:FREQ=YEARLY;BYMONTH=10;BYDAY=-1SU
END:STANDARD
END:VTIMEZONE
BEGIN:VEVENT
DTSTART;TZID=Europe/London:20220407T123000
DTEND;TZID=Europe/London:20220407T133000
DTSTAMP:20260424T022642Z
UID:{5BDC5BAB-8A41-4DDD-B570FF906643317A}
LOCATION:
SUMMARY:Lunchtime Webinar - Kidney Health for Everyone
DESCRIPTION:Renal failure remains a common problem in the intensive care unit (ICU), despite recent advancements in the use of new devices and techniques in more efficient renal replacement therapy.&#160; In this webinar, we have three experts on hand for a panel discussion about what you need to do to improve your management of patients from kidney stress to RRT. This is a real opportunity to have your vital questions answered and will provide a platform for interactive discussion on one of the key issues facing those working in intensive care.&#160; Chaired by Dr Marlies Ostermann and supported by Profs Gudrun Kunst and Lui Forni. Sponsored by bioM&#233;rieux.\n
 \n
 Event details: https://ics.ac.uk/events/calendar/lunchtime-webinar---kidney-health-for-everyone-KID04.html
PRIORITY:1
END:VEVENT
END:VCALENDAR