BEGIN:VCALENDAR
PRODID:-//Pixl8//Eventfolio//EN
VERSION:2.0
X-WR-TIMEZONE:Europe/London
CALSCALE:GREGORIAN
METHOD:PUBLISH
CLASS:PUBLIC
BEGIN:VTIMEZONE
TZID:Europe/London
LAST-MODIFIED:20260306T231828Z
TZURL:https://www.tzurl.org/zoneinfo-outlook/Europe/London
X-LIC-LOCATION:Europe/London
BEGIN:DAYLIGHT
TZNAME:BST
TZOFFSETFROM:+0000
TZOFFSETTO:+0100
DTSTART:19700329T010000
RRULE:FREQ=YEARLY;BYMONTH=3;BYDAY=-1SU
END:DAYLIGHT
BEGIN:STANDARD
TZNAME:GMT
TZOFFSETFROM:+0100
TZOFFSETTO:+0000
DTSTART:19701025T020000
RRULE:FREQ=YEARLY;BYMONTH=10;BYDAY=-1SU
END:STANDARD
END:VTIMEZONE
BEGIN:VEVENT
DTSTART;TZID=Europe/London;VALUE=DATE:20170928
DTEND;TZID=Europe/London;VALUE=DATE:20170929
DTSTAMP:20260423T175515Z
UID:{DC18B4E6-C699-49F2-9774DB5BF4977263}
LOCATION:
SUMMARY:Liver Study Day
DESCRIPTION:This study day is intended to provide updates by experts of the management of the patient with liver disorders. It is aimed at those who are already working with this type of patient or those who are about to and is appropriate for junior doctors and senior nursing staff alike.\n
 \n
 Event details: https://ics.ac.uk/events/calendar/liver-study-day-LIV280917.html
PRIORITY:1
END:VEVENT
END:VCALENDAR