BEGIN:VCALENDAR
PRODID:-//Pixl8//Eventfolio//EN
VERSION:2.0
X-WR-TIMEZONE:Europe/London
CALSCALE:GREGORIAN
METHOD:PUBLISH
CLASS:PUBLIC
BEGIN:VTIMEZONE
TZID:Europe/London
LAST-MODIFIED:20260306T231828Z
TZURL:https://www.tzurl.org/zoneinfo-outlook/Europe/London
X-LIC-LOCATION:Europe/London
BEGIN:DAYLIGHT
TZNAME:BST
TZOFFSETFROM:+0000
TZOFFSETTO:+0100
DTSTART:19700329T010000
RRULE:FREQ=YEARLY;BYMONTH=3;BYDAY=-1SU
END:DAYLIGHT
BEGIN:STANDARD
TZNAME:GMT
TZOFFSETFROM:+0100
TZOFFSETTO:+0000
DTSTART:19701025T020000
RRULE:FREQ=YEARLY;BYMONTH=10;BYDAY=-1SU
END:STANDARD
END:VTIMEZONE
BEGIN:VEVENT
DTSTART;TZID=Europe/London:20181120T000000
DTEND;TZID=Europe/London:20181120T230000
DTSTAMP:20260423T140704Z
UID:{405A2FB2-64C2-4FF0-A48701781D4E61D0}
LOCATION:
SUMMARY:Liver Study Day 2018
DESCRIPTION:Are you about to start working with the liver patient in Critical Care, or do you come across this type of patient in your current area of practice? This study day is aimed to help you keep up to date with current practice when managing this patient. All the speakers are specialists in this field and it will also be a chance to meet them and pick their brains.\n
 \n
 Event details: https://ics.ac.uk/events/calendar/liver-study-day-2018-201118.html
PRIORITY:1
END:VEVENT
END:VCALENDAR