BEGIN:VCALENDAR
PRODID:-//Pixl8//Eventfolio//EN
VERSION:2.0
X-WR-TIMEZONE:Europe/London
CALSCALE:GREGORIAN
METHOD:PUBLISH
CLASS:PUBLIC
BEGIN:VTIMEZONE
TZID:Europe/London
LAST-MODIFIED:20260306T231828Z
TZURL:https://www.tzurl.org/zoneinfo-outlook/Europe/London
X-LIC-LOCATION:Europe/London
BEGIN:DAYLIGHT
TZNAME:BST
TZOFFSETFROM:+0000
TZOFFSETTO:+0100
DTSTART:19700329T010000
RRULE:FREQ=YEARLY;BYMONTH=3;BYDAY=-1SU
END:DAYLIGHT
BEGIN:STANDARD
TZNAME:GMT
TZOFFSETFROM:+0100
TZOFFSETTO:+0000
DTSTART:19701025T020000
RRULE:FREQ=YEARLY;BYMONTH=10;BYDAY=-1SU
END:STANDARD
END:VTIMEZONE
BEGIN:VEVENT
DTSTART;TZID=Europe/London;VALUE=DATE:20170330
DTEND;TZID=Europe/London;VALUE=DATE:20170331
DTSTAMP:20260423T180002Z
UID:{D7EB1160-A4DC-4338-9F9F020F1422AC5C}
LOCATION:
SUMMARY:Legal and Ethical
DESCRIPTION:This interactive seminar will provide clarity and address the real-life legal and ethical problems you face.\n
 \n
 Event details: https://ics.ac.uk/events/calendar/legal-and-ethical-LEG300317.html
PRIORITY:1
END:VEVENT
END:VCALENDAR