BEGIN:VCALENDAR
PRODID:-//Pixl8//Eventfolio//EN
VERSION:2.0
X-WR-TIMEZONE:Europe/London
CALSCALE:GREGORIAN
METHOD:PUBLISH
CLASS:PUBLIC
BEGIN:VTIMEZONE
TZID:Europe/London
LAST-MODIFIED:20260306T231828Z
TZURL:https://www.tzurl.org/zoneinfo-outlook/Europe/London
X-LIC-LOCATION:Europe/London
BEGIN:DAYLIGHT
TZNAME:BST
TZOFFSETFROM:+0000
TZOFFSETTO:+0100
DTSTART:19700329T010000
RRULE:FREQ=YEARLY;BYMONTH=3;BYDAY=-1SU
END:DAYLIGHT
BEGIN:STANDARD
TZNAME:GMT
TZOFFSETFROM:+0100
TZOFFSETTO:+0000
DTSTART:19701025T020000
RRULE:FREQ=YEARLY;BYMONTH=10;BYDAY=-1SU
END:STANDARD
END:VTIMEZONE
BEGIN:VEVENT
DTSTART;TZID=Europe/London:20221214T120000
DTEND;TZID=Europe/London:20221214T130000
DTSTAMP:20260423T094323Z
UID:{47B326ED-EB42-4B2A-99588111B4A49074}
LOCATION:
SUMMARY:Leadership in ICU & The ICS Leadership Programme
DESCRIPTION:Helping understand the challenges of leading in an ICU environment.\n
 \n
 Event details: https://ics.ac.uk/events/calendar/leadership-in-icu-the-ics-leadership-programme.html
PRIORITY:1
END:VEVENT
END:VCALENDAR