BEGIN:VCALENDAR
PRODID:-//Pixl8//Eventfolio//EN
VERSION:2.0
X-WR-TIMEZONE:Europe/London
CALSCALE:GREGORIAN
METHOD:PUBLISH
CLASS:PUBLIC
BEGIN:VTIMEZONE
TZID:Europe/London
LAST-MODIFIED:20260306T231828Z
TZURL:https://www.tzurl.org/zoneinfo-outlook/Europe/London
X-LIC-LOCATION:Europe/London
BEGIN:DAYLIGHT
TZNAME:BST
TZOFFSETFROM:+0000
TZOFFSETTO:+0100
DTSTART:19700329T010000
RRULE:FREQ=YEARLY;BYMONTH=3;BYDAY=-1SU
END:DAYLIGHT
BEGIN:STANDARD
TZNAME:GMT
TZOFFSETFROM:+0100
TZOFFSETTO:+0000
DTSTART:19701025T020000
RRULE:FREQ=YEARLY;BYMONTH=10;BYDAY=-1SU
END:STANDARD
END:VTIMEZONE
BEGIN:VEVENT
DTSTART;TZID=Europe/London:20231116T090000
DTEND;TZID=Europe/London:20231116T170000
DTSTAMP:20260423T190254Z
UID:{D90689ED-F2AF-4F78-ADC79C77A6063CA2}
LOCATION:Intensive Care Society\, 7-9 Breams Buildings\, London\, EC4A 1DT
SUMMARY:Leadership: Approach to systems leadership
DESCRIPTION:Event details: https://ics.ac.uk/events/calendar/leadership-approach-to-systems-leadership.html
PRIORITY:1
END:VEVENT
END:VCALENDAR