BEGIN:VCALENDAR
PRODID:-//Pixl8//Eventfolio//EN
VERSION:2.0
X-WR-TIMEZONE:Europe/London
CALSCALE:GREGORIAN
METHOD:PUBLISH
CLASS:PUBLIC
BEGIN:VTIMEZONE
TZID:Europe/London
LAST-MODIFIED:20260306T231828Z
TZURL:https://www.tzurl.org/zoneinfo-outlook/Europe/London
X-LIC-LOCATION:Europe/London
BEGIN:DAYLIGHT
TZNAME:BST
TZOFFSETFROM:+0000
TZOFFSETTO:+0100
DTSTART:19700329T010000
RRULE:FREQ=YEARLY;BYMONTH=3;BYDAY=-1SU
END:DAYLIGHT
BEGIN:STANDARD
TZNAME:GMT
TZOFFSETFROM:+0100
TZOFFSETTO:+0000
DTSTART:19701025T020000
RRULE:FREQ=YEARLY;BYMONTH=10;BYDAY=-1SU
END:STANDARD
END:VTIMEZONE
BEGIN:VEVENT
DTSTART;TZID=Europe/London:20210729T190000
DTEND;TZID=Europe/London:20210729T200000
DTSTAMP:20260424T043226Z
UID:{A79F9F97-F88D-404E-9851347B8D3EEABD}
LOCATION:
SUMMARY:Intensive Care Society Innovation Network Forum
DESCRIPTION:Our Innovation Network is made up of people looking to the future of intensive care medicine, who have great ideas about how to make it brighter than ever. Our first latest forum will be chaired by Council Members Shond Laha and Hugh Montgoery, and feature presentations from four of our Network members about the projects they&#39;re currently working on. Join us to learn more about how they&#39;re shaping the future of intensive care, and how you can too.\n
 \n
 Event details: https://ics.ac.uk/events/calendar/intensive-care-society-innovation-network-forum-WEBFORUM3.html
PRIORITY:1
END:VEVENT
END:VCALENDAR