BEGIN:VCALENDAR
PRODID:-//Pixl8//Eventfolio//EN
VERSION:2.0
X-WR-TIMEZONE:Europe/London
CALSCALE:GREGORIAN
METHOD:PUBLISH
CLASS:PUBLIC
BEGIN:VTIMEZONE
TZID:Europe/London
LAST-MODIFIED:20260306T231828Z
TZURL:https://www.tzurl.org/zoneinfo-outlook/Europe/London
X-LIC-LOCATION:Europe/London
BEGIN:DAYLIGHT
TZNAME:BST
TZOFFSETFROM:+0000
TZOFFSETTO:+0100
DTSTART:19700329T010000
RRULE:FREQ=YEARLY;BYMONTH=3;BYDAY=-1SU
END:DAYLIGHT
BEGIN:STANDARD
TZNAME:GMT
TZOFFSETFROM:+0100
TZOFFSETTO:+0000
DTSTART:19701025T020000
RRULE:FREQ=YEARLY;BYMONTH=10;BYDAY=-1SU
END:STANDARD
END:VTIMEZONE
BEGIN:VEVENT
DTSTART;TZID=Europe/London:20200806T190000
DTEND;TZID=Europe/London:20200806T200000
DTSTAMP:20260423T175739Z
UID:{12E77018-7E75-47C3-B23A36B3B9ECC985}
LOCATION:
SUMMARY:ICS Workforce Wellbeing Webinar Series
DESCRIPTION:What do our critical care nurses need right now? After experiencing the most intense period of work, our critical care nurse workforce need us to consider their needs carefully right now. In this webinar we explore individual team, team and system factors at play, and discuss how to sustain and protect our nursing workforce in the future.\n
 \n
 Event details: https://ics.ac.uk/events/calendar/ics-workforce-wellbeing-webinar-series-WEBWELLBEI.html
PRIORITY:1
END:VEVENT
END:VCALENDAR