BEGIN:VCALENDAR
PRODID:-//Pixl8//Eventfolio//EN
VERSION:2.0
X-WR-TIMEZONE:Europe/London
CALSCALE:GREGORIAN
METHOD:PUBLISH
CLASS:PUBLIC
BEGIN:VTIMEZONE
TZID:Europe/London
LAST-MODIFIED:20260306T231828Z
TZURL:https://www.tzurl.org/zoneinfo-outlook/Europe/London
X-LIC-LOCATION:Europe/London
BEGIN:DAYLIGHT
TZNAME:BST
TZOFFSETFROM:+0000
TZOFFSETTO:+0100
DTSTART:19700329T010000
RRULE:FREQ=YEARLY;BYMONTH=3;BYDAY=-1SU
END:DAYLIGHT
BEGIN:STANDARD
TZNAME:GMT
TZOFFSETFROM:+0100
TZOFFSETTO:+0000
DTSTART:19701025T020000
RRULE:FREQ=YEARLY;BYMONTH=10;BYDAY=-1SU
END:STANDARD
END:VTIMEZONE
BEGIN:VEVENT
DTSTART;TZID=Europe/London:20200903T190000
DTEND;TZID=Europe/London:20200903T200000
DTSTAMP:20260423T175934Z
UID:{2B0DEAC1-574D-478F-973AA00A546924DA}
LOCATION:
SUMMARY:ICS Workforce Wellbeing Webinar Series
DESCRIPTION:From debrief to safe story sharing. The word “debrief” is throughout our language in healthcare settings, yet it is considered controversial and potentially unsafe if in the wrong hand. However we know in the providing the critical care that our ICU workforce needs, the chance to make sense of experience and share stories is important. This webinar explores the different methodologies for doing this safely in your unit.\n
 \n
 Event details: https://ics.ac.uk/events/calendar/ics-workforce-wellbeing-webinar-series-WEBDEBRIEF.html
PRIORITY:1
END:VEVENT
END:VCALENDAR