BEGIN:VCALENDAR
PRODID:-//Pixl8//Eventfolio//EN
VERSION:2.0
X-WR-TIMEZONE:Europe/London
CALSCALE:GREGORIAN
METHOD:PUBLISH
CLASS:PUBLIC
BEGIN:VTIMEZONE
TZID:Europe/London
LAST-MODIFIED:20260306T231828Z
TZURL:https://www.tzurl.org/zoneinfo-outlook/Europe/London
X-LIC-LOCATION:Europe/London
BEGIN:DAYLIGHT
TZNAME:BST
TZOFFSETFROM:+0000
TZOFFSETTO:+0100
DTSTART:19700329T010000
RRULE:FREQ=YEARLY;BYMONTH=3;BYDAY=-1SU
END:DAYLIGHT
BEGIN:STANDARD
TZNAME:GMT
TZOFFSETFROM:+0100
TZOFFSETTO:+0000
DTSTART:19701025T020000
RRULE:FREQ=YEARLY;BYMONTH=10;BYDAY=-1SU
END:STANDARD
END:VTIMEZONE
BEGIN:VEVENT
DTSTART;TZID=Europe/London:20201112T190000
DTEND;TZID=Europe/London:20201112T200000
DTSTAMP:20260423T222557Z
UID:{B5148EBF-86BA-49B2-8ABA9338E9BF6577}
LOCATION:
SUMMARY:ICS Workforce Wellbeing Webinar Series
DESCRIPTION:Understanding and preventing burnout in the intensive care.&#160;This event is accredited by the Royal College of Anaesthetists for 1 CPD credit.\n
 \n
 Event details: https://ics.ac.uk/events/calendar/ics-workforce-wellbeing-webinar-series-WEBBURNOUT.html
PRIORITY:1
END:VEVENT
END:VCALENDAR