BEGIN:VCALENDAR
PRODID:-//Pixl8//Eventfolio//EN
VERSION:2.0
X-WR-TIMEZONE:Europe/London
CALSCALE:GREGORIAN
METHOD:PUBLISH
CLASS:PUBLIC
BEGIN:VTIMEZONE
TZID:Europe/London
LAST-MODIFIED:20260306T231828Z
TZURL:https://www.tzurl.org/zoneinfo-outlook/Europe/London
X-LIC-LOCATION:Europe/London
BEGIN:DAYLIGHT
TZNAME:BST
TZOFFSETFROM:+0000
TZOFFSETTO:+0100
DTSTART:19700329T010000
RRULE:FREQ=YEARLY;BYMONTH=3;BYDAY=-1SU
END:DAYLIGHT
BEGIN:STANDARD
TZNAME:GMT
TZOFFSETFROM:+0100
TZOFFSETTO:+0000
DTSTART:19701025T020000
RRULE:FREQ=YEARLY;BYMONTH=10;BYDAY=-1SU
END:STANDARD
END:VTIMEZONE
BEGIN:VEVENT
DTSTART;TZID=Europe/London:20210629T190000
DTEND;TZID=Europe/London:20210629T200000
DTSTAMP:20260423T110631Z
UID:{FA2E8330-50ED-4041-8D74237E5464A52A}
LOCATION:
SUMMARY:ICS Pride Month Webinar
DESCRIPTION:How can we improve the experiences of LGBTQ+ staff and patients in ICU?\n
 \n
 Event details: https://ics.ac.uk/events/calendar/ics-pride-month-webinar-WEBPRIDE.html
PRIORITY:1
END:VEVENT
END:VCALENDAR