BEGIN:VCALENDAR
PRODID:-//Pixl8//Eventfolio//EN
VERSION:2.0
X-WR-TIMEZONE:Europe/London
CALSCALE:GREGORIAN
METHOD:PUBLISH
CLASS:PUBLIC
BEGIN:VTIMEZONE
TZID:Europe/London
LAST-MODIFIED:20260306T231828Z
TZURL:https://www.tzurl.org/zoneinfo-outlook/Europe/London
X-LIC-LOCATION:Europe/London
BEGIN:DAYLIGHT
TZNAME:BST
TZOFFSETFROM:+0000
TZOFFSETTO:+0100
DTSTART:19700329T010000
RRULE:FREQ=YEARLY;BYMONTH=3;BYDAY=-1SU
END:DAYLIGHT
BEGIN:STANDARD
TZNAME:GMT
TZOFFSETFROM:+0100
TZOFFSETTO:+0000
DTSTART:19701025T020000
RRULE:FREQ=YEARLY;BYMONTH=10;BYDAY=-1SU
END:STANDARD
END:VTIMEZONE
BEGIN:VEVENT
DTSTART;TZID=Europe/London:20190726T120000
DTEND;TZID=Europe/London:20190726T150000
DTSTAMP:20260423T141151Z
UID:{4626E637-3089-4FFB-826FE65F3B0906E3}
LOCATION:
SUMMARY:ICS Members Summer Party
DESCRIPTION:An informal networking event for ICS Members to meet each other and the team\n
 \n
 Event details: https://ics.ac.uk/events/calendar/ics-members-summer-party-ICS250719.html
PRIORITY:1
END:VEVENT
END:VCALENDAR