BEGIN:VCALENDAR
PRODID:-//Pixl8//Eventfolio//EN
VERSION:2.0
X-WR-TIMEZONE:Europe/London
CALSCALE:GREGORIAN
METHOD:PUBLISH
CLASS:PUBLIC
BEGIN:VTIMEZONE
TZID:Europe/London
LAST-MODIFIED:20260306T231828Z
TZURL:https://www.tzurl.org/zoneinfo-outlook/Europe/London
X-LIC-LOCATION:Europe/London
BEGIN:DAYLIGHT
TZNAME:BST
TZOFFSETFROM:+0000
TZOFFSETTO:+0100
DTSTART:19700329T010000
RRULE:FREQ=YEARLY;BYMONTH=3;BYDAY=-1SU
END:DAYLIGHT
BEGIN:STANDARD
TZNAME:GMT
TZOFFSETFROM:+0100
TZOFFSETTO:+0000
DTSTART:19701025T020000
RRULE:FREQ=YEARLY;BYMONTH=10;BYDAY=-1SU
END:STANDARD
END:VTIMEZONE
BEGIN:VEVENT
DTSTART;TZID=Europe/London:20210916T150000
DTEND;TZID=Europe/London:20210916T160000
DTSTAMP:20260423T141013Z
UID:{0019E38E-BCE2-41FD-AEF8E7767F3E19D1}
LOCATION:
SUMMARY:ICS Education: World Sepsis Day
DESCRIPTION:Our latest webinar supported by bioM&#233;rieux, marks the 10th Anniversary of World Sepsis Day. Chaired by Professor Tony Whitehouse. This event will comprise of a panel discussion focusing on real life case scenarios on Sepsis.\n
 \n
 Event details: https://ics.ac.uk/events/calendar/ics-education-world-sepsis-day-WEBSEP09.html
PRIORITY:1
END:VEVENT
END:VCALENDAR