BEGIN:VCALENDAR
PRODID:-//Pixl8//Eventfolio//EN
VERSION:2.0
X-WR-TIMEZONE:Europe/London
CALSCALE:GREGORIAN
METHOD:PUBLISH
CLASS:PUBLIC
BEGIN:VTIMEZONE
TZID:Europe/London
LAST-MODIFIED:20260306T231828Z
TZURL:https://www.tzurl.org/zoneinfo-outlook/Europe/London
X-LIC-LOCATION:Europe/London
BEGIN:DAYLIGHT
TZNAME:BST
TZOFFSETFROM:+0000
TZOFFSETTO:+0100
DTSTART:19700329T010000
RRULE:FREQ=YEARLY;BYMONTH=3;BYDAY=-1SU
END:DAYLIGHT
BEGIN:STANDARD
TZNAME:GMT
TZOFFSETFROM:+0100
TZOFFSETTO:+0000
DTSTART:19701025T020000
RRULE:FREQ=YEARLY;BYMONTH=10;BYDAY=-1SU
END:STANDARD
END:VTIMEZONE
BEGIN:VEVENT
DTSTART;TZID=Europe/London:20200611T190000
DTEND;TZID=Europe/London:20200611T200000
DTSTAMP:20260423T220624Z
UID:{C8A08C86-A005-4B95-A5B4DA9DC0429A4A}
LOCATION:
SUMMARY:ICS Education: Tracheostomy in the COVID Era
DESCRIPTION:This webinar will highlight a number of U.K. and international projects that have produced guidance for the varied multidisciplinary staff involved in tracheostomy care, explaining the principles, resources and evidence available to guide best practice.\n
 \n
 Event details: https://ics.ac.uk/events/calendar/ics-education-tracheostomy-in-the-covid-era-WEBTRACH.html
PRIORITY:1
END:VEVENT
END:VCALENDAR