BEGIN:VCALENDAR
PRODID:-//Pixl8//Eventfolio//EN
VERSION:2.0
X-WR-TIMEZONE:Europe/London
CALSCALE:GREGORIAN
METHOD:PUBLISH
CLASS:PUBLIC
BEGIN:VTIMEZONE
TZID:Europe/London
LAST-MODIFIED:20260306T231828Z
TZURL:https://www.tzurl.org/zoneinfo-outlook/Europe/London
X-LIC-LOCATION:Europe/London
BEGIN:DAYLIGHT
TZNAME:BST
TZOFFSETFROM:+0000
TZOFFSETTO:+0100
DTSTART:19700329T010000
RRULE:FREQ=YEARLY;BYMONTH=3;BYDAY=-1SU
END:DAYLIGHT
BEGIN:STANDARD
TZNAME:GMT
TZOFFSETFROM:+0100
TZOFFSETTO:+0000
DTSTART:19701025T020000
RRULE:FREQ=YEARLY;BYMONTH=10;BYDAY=-1SU
END:STANDARD
END:VTIMEZONE
BEGIN:VEVENT
DTSTART;TZID=Europe/London:20201001T190000
DTEND;TZID=Europe/London:20201001T200000
DTSTAMP:20260423T180113Z
UID:{563E8039-A445-4082-B965F43FB7B50168}
LOCATION:
SUMMARY:ICS Education: The Future of Targeted Rehabilitation
DESCRIPTION:The future of targeted rehabilitation from the ICU to home.&#160; This seminar is aiming to explore new approaches for the identification of high risk patients and delivering improvements in rehabilitation that will speed their recovery from the Intensive Care unit through to home.\n
 \n
 Event details: https://ics.ac.uk/events/calendar/ics-education-the-future-of-targeted-rehabilitation-WEBSCREEN.html
PRIORITY:1
END:VEVENT
END:VCALENDAR