BEGIN:VCALENDAR
PRODID:-//Pixl8//Eventfolio//EN
VERSION:2.0
X-WR-TIMEZONE:Europe/London
CALSCALE:GREGORIAN
METHOD:PUBLISH
CLASS:PUBLIC
BEGIN:VTIMEZONE
TZID:Europe/London
LAST-MODIFIED:20260306T231828Z
TZURL:https://www.tzurl.org/zoneinfo-outlook/Europe/London
X-LIC-LOCATION:Europe/London
BEGIN:DAYLIGHT
TZNAME:BST
TZOFFSETFROM:+0000
TZOFFSETTO:+0100
DTSTART:19700329T010000
RRULE:FREQ=YEARLY;BYMONTH=3;BYDAY=-1SU
END:DAYLIGHT
BEGIN:STANDARD
TZNAME:GMT
TZOFFSETFROM:+0100
TZOFFSETTO:+0000
DTSTART:19701025T020000
RRULE:FREQ=YEARLY;BYMONTH=10;BYDAY=-1SU
END:STANDARD
END:VTIMEZONE
BEGIN:VEVENT
DTSTART;TZID=Europe/London:20210705T190000
DTEND;TZID=Europe/London:20210705T200000
DTSTAMP:20260423T180155Z
UID:{B5F3BA2C-B382-4DA8-A6C4879EEA5E636B}
LOCATION:
SUMMARY:ICS Education: The future of healthcare provision
DESCRIPTION:The webinar will discuss medical, legal and ethical issues surrounding the future of healthcare provision. These will include the&#160;duty of care when AI and robotic assisted surgery is used; wearable devices, consent and personal responsibility; remote consultations and virtual wards.\n
 \n
 Event details: https://ics.ac.uk/events/calendar/ics-education-the-future-of-healthcare-provision-WEBLEAGGGG.html
PRIORITY:1
END:VEVENT
END:VCALENDAR