BEGIN:VCALENDAR
PRODID:-//Pixl8//Eventfolio//EN
VERSION:2.0
X-WR-TIMEZONE:Europe/London
CALSCALE:GREGORIAN
METHOD:PUBLISH
CLASS:PUBLIC
BEGIN:VTIMEZONE
TZID:Europe/London
LAST-MODIFIED:20260306T231828Z
TZURL:https://www.tzurl.org/zoneinfo-outlook/Europe/London
X-LIC-LOCATION:Europe/London
BEGIN:DAYLIGHT
TZNAME:BST
TZOFFSETFROM:+0000
TZOFFSETTO:+0100
DTSTART:19700329T010000
RRULE:FREQ=YEARLY;BYMONTH=3;BYDAY=-1SU
END:DAYLIGHT
BEGIN:STANDARD
TZNAME:GMT
TZOFFSETFROM:+0100
TZOFFSETTO:+0000
DTSTART:19701025T020000
RRULE:FREQ=YEARLY;BYMONTH=10;BYDAY=-1SU
END:STANDARD
END:VTIMEZONE
BEGIN:VEVENT
DTSTART;TZID=Europe/London:20210121T190000
DTEND;TZID=Europe/London:20210121T200000
DTSTAMP:20260423T180134Z
UID:{40C6C8F9-445F-4573-81CDAA5D8F056183}
LOCATION:
SUMMARY:ICS Education: The ethics of inter-hospital transfers
DESCRIPTION:The pandemic is placing intensive care under tremendous strain. Inter-Hospital transfer has been increasingly used to maintain capacity in our units. Join us to hear of regional experiences, and for a panel discussion to explore the ethical challenges this raises.\n
 \n
 Event details: https://ics.ac.uk/events/calendar/ics-education-the-ethics-of-inter-hospital-transfers-WEBMHAMCA.html
PRIORITY:1
END:VEVENT
END:VCALENDAR